BEGIN:VCALENDAR
VERSION:2.0
PRODID:-//Memorial United Methodist Church - ECPv6.15.20//NONSGML v1.0//EN
CALSCALE:GREGORIAN
METHOD:PUBLISH
X-ORIGINAL-URL:https://avonmumc.org
X-WR-CALDESC:Events for Memorial United Methodist Church
REFRESH-INTERVAL;VALUE=DURATION:PT1H
X-Robots-Tag:noindex
X-PUBLISHED-TTL:PT1H
BEGIN:VTIMEZONE
TZID:America/New_York
BEGIN:DAYLIGHT
TZOFFSETFROM:-0500
TZOFFSETTO:-0400
TZNAME:EDT
DTSTART:20250309T070000
END:DAYLIGHT
BEGIN:STANDARD
TZOFFSETFROM:-0400
TZOFFSETTO:-0500
TZNAME:EST
DTSTART:20251102T060000
END:STANDARD
BEGIN:DAYLIGHT
TZOFFSETFROM:-0500
TZOFFSETTO:-0400
TZNAME:EDT
DTSTART:20260308T070000
END:DAYLIGHT
BEGIN:STANDARD
TZOFFSETFROM:-0400
TZOFFSETTO:-0500
TZNAME:EST
DTSTART:20261101T060000
END:STANDARD
BEGIN:DAYLIGHT
TZOFFSETFROM:-0500
TZOFFSETTO:-0400
TZNAME:EDT
DTSTART:20270314T070000
END:DAYLIGHT
BEGIN:STANDARD
TZOFFSETFROM:-0400
TZOFFSETTO:-0500
TZNAME:EST
DTSTART:20271107T060000
END:STANDARD
END:VTIMEZONE
BEGIN:VEVENT
DTSTART;TZID=America/New_York:20260425T200000
DTEND;TZID=America/New_York:20260425T210000
DTSTAMP:20260424T041723
CREATED:20241231T183827Z
LAST-MODIFIED:20251028T215928Z
UID:10023699-1777147200-1777150800@avonmumc.org
SUMMARY:Saturday AA Meeting
DESCRIPTION:Alcoholics Anonymous Meeting\nMeeting Date: Every Wednesday and Saturday (Open Meeting)\nTime: 8:00 pm\nLocation: Fellowship Hall \nAlcoholics Anonymous (AA) was founded in America in 1935 by Bill Wilson (Bill W.) and Robert Smith (Dr. Bob). Two centuries earlier\, John Wesley\, the founder of Methodism\, established Methodist penitent bands in England\, which organized on Saturday nights\, the evening on which members of these small groups were most tempted to frequent alehouses.  The hymns and teaching provided during these meetings addressed the issues the members faced\, thus the connection between these bands and the current practices of AA. \nIn addition\, other Avon locations for AA meetings are available\, one at the Avon Center Congregational Church each morning at 7:00 AM\, and also on Tuesday evenings at 8:00 PM at the West Avon Congregational Church on Country Club Road. \nIf you know of anyone who would benefit from participating in any of these meetings\, please have them contact any of the three churches mentioned.  AA is truly a lifesaving program that has stood the test of time.
URL:https://avonmumc.org/event/saturday-aa-meeting/2026-04-25/
LOCATION:Memorial United Methodist Church\, 867 West Avon Road\, Avon\, CT\, 06001\, United States
CATEGORIES:Hosted Organization Meeting
ATTACH;FMTTYPE=image/jpeg:https://avonmumc.org/wp-content/uploads/2024/03/Alcohol-Awarenessy.jpg
GEO:41.7661738;-72.8710925
X-APPLE-STRUCTURED-LOCATION;VALUE=URI;X-ADDRESS=Memorial United Methodist Church 867 West Avon Road Avon CT 06001 United States;X-APPLE-RADIUS=500;X-TITLE=867 West Avon Road:geo:-72.8710925,41.7661738
END:VEVENT
BEGIN:VEVENT
DTSTART;TZID=America/New_York:20260426T083000
DTEND;TZID=America/New_York:20260426T093000
DTSTAMP:20260424T041723
CREATED:20250317T213327Z
LAST-MODIFIED:20260201T213849Z
UID:10022296-1777192200-1777195800@avonmumc.org
SUMMARY:Sunday Worship with Communion
DESCRIPTION:Come Just As You Are!\nWe come together for our Worship Services to experience the love of Jesus and to respond to God in worship. The love of Jesus compels us to live lives that testify to the hope we have in him. \nSUNDAY WORSHIP SERVICES \nRegular Schedule (Sept. – June)\n8:30 am (In-person only) & 10:30 am (In-person and Online) *Childcare is provided in the 10:30 am service. \nSummer Schedule (July – Aug.)\n9:30 am (In-person and Online) *Childcare is provided. \nFor more info\, please visit the Worship with Us webpage.
URL:https://avonmumc.org/event/sunday-worship-with-communion/2026-04-26/
LOCATION:Memorial United Methodist Church\, 867 West Avon Road\, Avon\, CT\, 06001\, United States
CATEGORIES:Worship Service
ATTACH;FMTTYPE=image/jpeg:https://avonmumc.org/wp-content/uploads/2024/03/event_sunday_communion_15.jpg
GEO:41.7661738;-72.8710925
X-APPLE-STRUCTURED-LOCATION;VALUE=URI;X-ADDRESS=Memorial United Methodist Church 867 West Avon Road Avon CT 06001 United States;X-APPLE-RADIUS=500;X-TITLE=867 West Avon Road:geo:-72.8710925,41.7661738
END:VEVENT
BEGIN:VEVENT
DTSTART;TZID=America/New_York:20260426T093000
DTEND;TZID=America/New_York:20260426T094000
DTSTAMP:20260424T041723
CREATED:20250927T213330Z
LAST-MODIFIED:20260330T111940Z
UID:10023593-1777195800-1777196400@avonmumc.org
SUMMARY:Healing & Anointing Service
DESCRIPTION:Healing & Anointing Service\nDate: Last Sunday of the month\nTime: Following 8:30 am and 10:30 am Sunday Services\nLocation: Sanctuary \nIn the United Methodist Church\, healing and anointing are important ministries\, though they are not considered sacraments in the same way as Baptism and Holy Communion. Instead\, they are understood as sacramental acts—means of grace through which God’s presence\, love\, and healing power can be experienced. \nOur church will hold the healing and anointing service (5-10 minutes) after each Sunday service on the last Sunday of the month. During healing and anointing\, you may come forward to the altar rail\, and the pastor may place hands on the head or shoulder and anoint with oil on the forehead in the sign of the cross. Or you may remain in the pew and pray for yourself and others. Or you may leave quietly for Coffee Hour. \nIf you have any questions about the healing and anointing service\, please feel free to contact Pastor Lee. May the Lord be with you\, touch you\, and make you strong and well in body and spirit through healing and anointing! Amen.
URL:https://avonmumc.org/event/healing-anointing-service-2/2026-04-26/
LOCATION:Memorial United Methodist Church\, 867 West Avon Road\, Avon\, CT\, 06001\, United States
CATEGORIES:Worship Service
ATTACH;FMTTYPE=image/jpeg:https://avonmumc.org/wp-content/uploads/2025/09/Healing-service.jpg
GEO:41.7661738;-72.8710925
X-APPLE-STRUCTURED-LOCATION;VALUE=URI;X-ADDRESS=Memorial United Methodist Church 867 West Avon Road Avon CT 06001 United States;X-APPLE-RADIUS=500;X-TITLE=867 West Avon Road:geo:-72.8710925,41.7661738
END:VEVENT
BEGIN:VEVENT
DTSTART;TZID=America/New_York:20260426T093000
DTEND;TZID=America/New_York:20260426T102000
DTSTAMP:20260424T041723
CREATED:20251125T025914Z
LAST-MODIFIED:20260317T123206Z
UID:10022482-1777195800-1777198800@avonmumc.org
SUMMARY:Sunday School for All Ages
DESCRIPTION:Sunday School for all ages is held at 9:30 am Sunday mornings (September through June)\nClass Rooms:\nPreK-Grade 4: Room 203 – upstairs on left\nGrades 5-8: Room 105 – across from kitchen\nGrades 9-12: Room 106 – off Fellowship Hall\nAdults: Room 204 (Parlor) – upstairs on right \nFor more info\, please visit the Children’s Ministry and Small Groups webpages.
URL:https://avonmumc.org/event/sunday-school-for-all-ages-2-2/2026-04-26/
LOCATION:Memorial United Methodist Church\, 867 West Avon Road\, Avon\, CT\, 06001\, United States
CATEGORIES:Event
ATTACH;FMTTYPE=image/jpeg:https://avonmumc.org/wp-content/uploads/2024/03/event_sunday_school.jpg
GEO:41.7661738;-72.8710925
X-APPLE-STRUCTURED-LOCATION;VALUE=URI;X-ADDRESS=Memorial United Methodist Church 867 West Avon Road Avon CT 06001 United States;X-APPLE-RADIUS=500;X-TITLE=867 West Avon Road:geo:-72.8710925,41.7661738
END:VEVENT
BEGIN:VEVENT
DTSTART;TZID=America/New_York:20260426T103000
DTEND;TZID=America/New_York:20260426T113000
DTSTAMP:20260424T041723
CREATED:20250317T213841Z
LAST-MODIFIED:20260201T213940Z
UID:10022367-1777199400-1777203000@avonmumc.org
SUMMARY:Family Worship Service
DESCRIPTION:Come Just As You Are!\nWe come together for our Worship Services to experience the love of Jesus and to respond to God in worship. The love of Jesus compels us to live lives that testify to the hope we have in him. \nSUNDAY WORSHIP SERVICES \nRegular Schedule (Sept. – June)\n8:30 am (In-person only) & 10:30 am (In-person and Online) *Childcare is provided in the 10:30 am service. \nBummer Schedule(July – Aug.)\n9:30 am (In-person and Online) *Childcare is provided. \nFor more info\, please visit the Worship with Us webpage.
URL:https://avonmumc.org/event/family-worship-service/2026-04-26/
LOCATION:Memorial United Methodist Church\, 867 West Avon Road\, Avon\, CT\, 06001\, United States
CATEGORIES:Worship Service
ATTACH;FMTTYPE=image/jpeg:https://avonmumc.org/wp-content/uploads/2024/06/event_feat_worship-0.jpg
GEO:41.7661738;-72.8710925
X-APPLE-STRUCTURED-LOCATION;VALUE=URI;X-ADDRESS=Memorial United Methodist Church 867 West Avon Road Avon CT 06001 United States;X-APPLE-RADIUS=500;X-TITLE=867 West Avon Road:geo:-72.8710925,41.7661738
END:VEVENT
BEGIN:VEVENT
DTSTART;TZID=America/New_York:20260426T113000
DTEND;TZID=America/New_York:20260426T123000
DTSTAMP:20260424T041723
CREATED:20250317T214823Z
LAST-MODIFIED:20260124T200821Z
UID:10022426-1777203000-1777206600@avonmumc.org
SUMMARY:Fellowship Hour
DESCRIPTION:Meet one another\, share concerns\, laugh together!\nEvent Date: Every Sunday after the Service\nLocation: Fellowship Hall \nFellowship Hour on Sunday mornings is one of our most popular opportunities for connection and community. Held in our inviting Fellowship Hall (Downstairs)\, “Fellowship Hour” often features delicious food and a chance to check in with friends\, welcome new people\, and learn about important opportunities to get involved both within and beyond the walls of our congregation. \nFellowship Hour is overseen by the Membership Committee which makes up the monthly schedule and provides printed instructions. It is enjoyed by all who attend and the serving committee members and summer volunteers. \nFor more social gathering opportunities\, please visit the Koinonia (Fellowship) webpage.
URL:https://avonmumc.org/event/fellowship-hour/2026-04-26/
LOCATION:Memorial United Methodist Church\, 867 West Avon Road\, Avon\, CT\, 06001\, United States
CATEGORIES:Event
ATTACH;FMTTYPE=image/jpeg:https://avonmumc.org/wp-content/uploads/2024/06/event_coffee_hour.jpg
GEO:41.7661738;-72.8710925
X-APPLE-STRUCTURED-LOCATION;VALUE=URI;X-ADDRESS=Memorial United Methodist Church 867 West Avon Road Avon CT 06001 United States;X-APPLE-RADIUS=500;X-TITLE=867 West Avon Road:geo:-72.8710925,41.7661738
END:VEVENT
BEGIN:VEVENT
DTSTART;TZID=America/New_York:20260428T183000
DTEND;TZID=America/New_York:20260428T190000
DTSTAMP:20260424T041723
CREATED:20250518T232459Z
LAST-MODIFIED:20260317T123637Z
UID:10023815-1777401000-1777402800@avonmumc.org
SUMMARY:Memorial Garden Committee Meeting
DESCRIPTION:Meeting Date: Fourth Tuesday of the month\nTime: 6:30 pm\nLocation: Memorial Garden \nAbout the committee: \nMemorial Garden Committee is responsible for the upkeep and maintenance of the Memorial Garden\, recording of those remembered in the garden\, purchase and installation of memorial plaques. Memorial Garden Committee is under the jurisdiction of and overseen by the Board of Trustees. \nMemorial Garden was established to remember persons no longer with us who rest in the certain hope of resurrection into eternal life. It is a living memorial of simple and natural beauty where every season is a reminder of life’s eternal renewal. The quiet beauty found in the Garden is a source of comfort\, encouragement and inspiration for all who visit. The privilege of having a name entered on the bronze Memorial Plaque and/or ashes scattered or placed in the Garden is reserved for MUMC members\, their immediate families\, past members and friends of the congregation. For a designated donation of $500\, the name of the memorialized person will be placed on the Plaque located in the Garden. Pre-arrangements may be made for placement of cremains (ashes) and remembrance on the Memorial Plaque. Brochures with complete information about the Garden\, as well as forms for submittal of information\, are available in the display in the Narthex of the Sanctuary. \nChairperson serves as a member of the Church Charge Conference and Church Council. \n*MUMC Memorial Garden is open year-around to everyone. Come relax\, mediate\, pray\, and recharge your soul!
URL:https://avonmumc.org/event/memorial-garden-committee-meeting/2026-04-28/
LOCATION:Memorial United Methodist Church\, 867 West Avon Road\, Avon\, CT\, 06001\, United States
CATEGORIES:Meeting
ATTACH;FMTTYPE=image/jpeg:https://avonmumc.org/wp-content/uploads/2024/06/meeting.jpg
GEO:41.7661738;-72.8710925
X-APPLE-STRUCTURED-LOCATION;VALUE=URI;X-ADDRESS=Memorial United Methodist Church 867 West Avon Road Avon CT 06001 United States;X-APPLE-RADIUS=500;X-TITLE=867 West Avon Road:geo:-72.8710925,41.7661738
END:VEVENT
BEGIN:VEVENT
DTSTART;TZID=America/New_York:20260428T190000
DTEND;TZID=America/New_York:20260428T200000
DTSTAMP:20260424T041723
CREATED:20250114T014743Z
LAST-MODIFIED:20251127T082142Z
UID:10023795-1777402800-1777406400@avonmumc.org
SUMMARY:Guiding & Growing Committee Meeting
DESCRIPTION:Meeting Date: 4th Tuesday of the month\nTime: 7:00 pm\nLocation: Parlor and Zoom \nRevitalization continues at Memorial! \nCome\, share your ideas\, and get involved in our efforts to revitalize our church and increase community outreach. Be a part of bringing the unchurched in our communities to our church so they can develop relationships with God and Jesus. \nGuiding & Growing Committee generates at least one event at MUMC each month to encourage you all to come and participate\, as well as invite friends and neighbors to join you. We publicize and invite our communities to join us.
URL:https://avonmumc.org/event/guiding-growing-committee-meeting/2026-04-28/
LOCATION:Memorial United Methodist Church\, 867 West Avon Road\, Avon\, CT\, 06001\, United States
CATEGORIES:Meeting
ATTACH;FMTTYPE=image/jpeg:https://avonmumc.org/wp-content/uploads/2024/06/meeting.jpg
GEO:41.7661738;-72.8710925
X-APPLE-STRUCTURED-LOCATION;VALUE=URI;X-ADDRESS=Memorial United Methodist Church 867 West Avon Road Avon CT 06001 United States;X-APPLE-RADIUS=500;X-TITLE=867 West Avon Road:geo:-72.8710925,41.7661738
END:VEVENT
BEGIN:VEVENT
DTSTART;TZID=America/New_York:20260429T200000
DTEND;TZID=America/New_York:20260429T210000
DTSTAMP:20260424T041723
CREATED:20241231T183439Z
LAST-MODIFIED:20250930T120733Z
UID:10023640-1777492800-1777496400@avonmumc.org
SUMMARY:Wednesday AA Meeting
DESCRIPTION:Alcoholics Anonymous Meeting\nMeeting Date: Every Wednesday and Saturday (Open Meeting)\nTime: 8:00 pm\nLocation: Fellowship Hall \nAlcoholics Anonymous (AA) was founded in America in 1935 by Bill Wilson (Bill W.) and Robert Smith (Dr. Bob). Two centuries earlier\, John Wesley\, the founder of Methodism\, established Methodist penitent bands in England\, which organized on Saturday nights\, the evening on which members of these small groups were most tempted to frequent alehouses.  The hymns and teaching provided during these meetings addressed the issues the members faced\, thus the connection between these bands and the current practices of AA. \nIn addition\, other Avon locations for AA meetings are available\, one at the Avon Center Congregational Church each morning at 7:00 AM\, and also on Tuesday evenings at 8:00 PM at the West Avon Congregational Church on Country Club Road. \nIf you know of anyone who would benefit from participating in any of these meetings\, please have them contact any of the three churches mentioned.  AA is truly a lifesaving program that has stood the test of time.
URL:https://avonmumc.org/event/wednesday-aa-meeting/2026-04-29/
LOCATION:Memorial United Methodist Church\, 867 West Avon Road\, Avon\, CT\, 06001\, United States
CATEGORIES:Hosted Organization Meeting
ATTACH;FMTTYPE=image/jpeg:https://avonmumc.org/wp-content/uploads/2024/03/Alcohol-Awarenessy.jpg
GEO:41.7661738;-72.8710925
X-APPLE-STRUCTURED-LOCATION;VALUE=URI;X-ADDRESS=Memorial United Methodist Church 867 West Avon Road Avon CT 06001 United States;X-APPLE-RADIUS=500;X-TITLE=867 West Avon Road:geo:-72.8710925,41.7661738
END:VEVENT
BEGIN:VEVENT
DTSTART;TZID=America/New_York:20260430T170000
DTEND;TZID=America/New_York:20260430T181500
DTSTAMP:20260424T041723
CREATED:20251219T172847Z
LAST-MODIFIED:20260201T210539Z
UID:10024054-1777568400-1777572900@avonmumc.org
SUMMARY:Memorial Choir Rehearsal
DESCRIPTION:Let us make a joyful noise to the rock of our salvation! \nMemorial Choir Rehearsal Time and Performance Schedule: \n\nMemorial Choir: Ages 14 and up\nRehearsal Time: Thursdays\, 5 pm to 6:15 pm\, Room 201 & Sundays\, 9:40 am\, Sanctuary\nPerformance Schedule: Sunday Worship Services & Special Worship Services\n\nContact Tamar Witkin\, Music Director\, if you are interested in joining a choir regardless of experience. \nFor more info\, please visit the Music Ministry webpage.
URL:https://avonmumc.org/event/memorial-choir-rehearsal-3-2/2026-04-30/
LOCATION:Memorial United Methodist Church\, 867 West Avon Road\, Avon\, CT\, 06001\, United States
CATEGORIES:Event
ATTACH;FMTTYPE=image/jpeg:https://avonmumc.org/wp-content/uploads/2024/03/event_choir.jpg
GEO:41.7661738;-72.8710925
X-APPLE-STRUCTURED-LOCATION;VALUE=URI;X-ADDRESS=Memorial United Methodist Church 867 West Avon Road Avon CT 06001 United States;X-APPLE-RADIUS=500;X-TITLE=867 West Avon Road:geo:-72.8710925,41.7661738
END:VEVENT
END:VCALENDAR