BEGIN:VCALENDAR
VERSION:2.0
PRODID:-//Memorial United Methodist Church - ECPv6.15.20//NONSGML v1.0//EN
CALSCALE:GREGORIAN
METHOD:PUBLISH
X-ORIGINAL-URL:https://avonmumc.org
X-WR-CALDESC:Events for Memorial United Methodist Church
REFRESH-INTERVAL;VALUE=DURATION:PT1H
X-Robots-Tag:noindex
X-PUBLISHED-TTL:PT1H
BEGIN:VTIMEZONE
TZID:America/New_York
BEGIN:DAYLIGHT
TZOFFSETFROM:-0500
TZOFFSETTO:-0400
TZNAME:EDT
DTSTART:20260308T070000
END:DAYLIGHT
BEGIN:STANDARD
TZOFFSETFROM:-0400
TZOFFSETTO:-0500
TZNAME:EST
DTSTART:20261101T060000
END:STANDARD
BEGIN:DAYLIGHT
TZOFFSETFROM:-0500
TZOFFSETTO:-0400
TZNAME:EDT
DTSTART:20270314T070000
END:DAYLIGHT
BEGIN:STANDARD
TZOFFSETFROM:-0400
TZOFFSETTO:-0500
TZNAME:EST
DTSTART:20271107T060000
END:STANDARD
BEGIN:DAYLIGHT
TZOFFSETFROM:-0500
TZOFFSETTO:-0400
TZNAME:EDT
DTSTART:20280312T070000
END:DAYLIGHT
BEGIN:STANDARD
TZOFFSETFROM:-0400
TZOFFSETTO:-0500
TZNAME:EST
DTSTART:20281105T060000
END:STANDARD
END:VTIMEZONE
BEGIN:VEVENT
DTSTART;TZID=America/New_York:20270102T093000
DTEND;TZID=America/New_York:20270102T103000
DTSTAMP:20260424T185532
CREATED:20250925T234736Z
LAST-MODIFIED:20260401T123741Z
UID:10024824-1798882200-1798885800@avonmumc.org
SUMMARY:Prayer Warriors: A Prayer Meeting
DESCRIPTION:Meeting Date: First Saturday of the month\nTime: 9:30-10:30 am\nLocation: Prayer Closet (Room 201) \n“Prayer Warriors” are committed individuals\, not necessarily trained professionals\, who intercede in prayer on behalf of others\, often those in spiritual or personal distress. The phrase “prayer warriors needed” is a call to action\, indicating that prayers are necessary for a specific situation\, person\, or goal\, and it encourages others to pray persistently and faithfully for that need. \nCome and share in this new exciting prayer group at MUMC! \nIf you have any questions\, please contact Linda Arnold via the contact form.
URL:https://avonmumc.org/event/prayer-warriors-a-prayer-meeting/2027-01-02/
LOCATION:Memorial United Methodist Church\, 867 West Avon Road\, Avon\, CT\, 06001\, United States
CATEGORIES:Event
ATTACH;FMTTYPE=image/jpeg:https://avonmumc.org/wp-content/uploads/2025/09/Prayer-Warriors-1.jpg
GEO:41.7661738;-72.8710925
X-APPLE-STRUCTURED-LOCATION;VALUE=URI;X-ADDRESS=Memorial United Methodist Church 867 West Avon Road Avon CT 06001 United States;X-APPLE-RADIUS=500;X-TITLE=867 West Avon Road:geo:-72.8710925,41.7661738
END:VEVENT
BEGIN:VEVENT
DTSTART;TZID=America/New_York:20270120T080000
DTEND;TZID=America/New_York:20270120T090000
DTSTAMP:20260424T185532
CREATED:20251219T232818Z
LAST-MODIFIED:20260120T185633Z
UID:10024247-1800432000-1800435600@avonmumc.org
SUMMARY:Men's Breakfast
DESCRIPTION:Join us for our Men’s Breakfast!\nEvent Date: 3rd Wednesday of the month\nTime: 8:00 am – 9:00 am\nLocation: Friendly’s in Avon\, CT \nAbout the group: \nThis is a great opportunity to get to know the other men of the church\, share experiences\, and grow your faith to become the man God wants you to be. The agenda and purpose is fellowship. Discussions cover just about everything under the sun\, mostly sports and deer hunting (thus the venison-egg stratas). \nContact Walter Sargent via the contact form for more info.
URL:https://avonmumc.org/event/mens-breakfast-2/2027-01-20/
LOCATION:Friendly’s (Avon\, CT)\, West Main Street\, Avon\, CT\, 06001\, United States
CATEGORIES:Event
ATTACH;FMTTYPE=image/jpeg:https://avonmumc.org/wp-content/uploads/2024/03/event-mens-breakfast2.jpg
GEO:41.8147002;-72.8615635
X-APPLE-STRUCTURED-LOCATION;VALUE=URI;X-ADDRESS=Friendly’s (Avon CT) West Main Street Avon CT 06001 United States;X-APPLE-RADIUS=500;X-TITLE=West Main Street:geo:-72.8615635,41.8147002
END:VEVENT
END:VCALENDAR