BEGIN:VCALENDAR
VERSION:2.0
PRODID:-//Memorial United Methodist Church - ECPv6.15.20//NONSGML v1.0//EN
CALSCALE:GREGORIAN
METHOD:PUBLISH
X-WR-CALNAME:Memorial United Methodist Church
X-ORIGINAL-URL:https://avonmumc.org
X-WR-CALDESC:Events for Memorial United Methodist Church
REFRESH-INTERVAL;VALUE=DURATION:PT1H
X-Robots-Tag:noindex
X-PUBLISHED-TTL:PT1H
BEGIN:VTIMEZONE
TZID:America/New_York
BEGIN:DAYLIGHT
TZOFFSETFROM:-0500
TZOFFSETTO:-0400
TZNAME:EDT
DTSTART:20250309T070000
END:DAYLIGHT
BEGIN:STANDARD
TZOFFSETFROM:-0400
TZOFFSETTO:-0500
TZNAME:EST
DTSTART:20251102T060000
END:STANDARD
BEGIN:DAYLIGHT
TZOFFSETFROM:-0500
TZOFFSETTO:-0400
TZNAME:EDT
DTSTART:20260308T070000
END:DAYLIGHT
BEGIN:STANDARD
TZOFFSETFROM:-0400
TZOFFSETTO:-0500
TZNAME:EST
DTSTART:20261101T060000
END:STANDARD
BEGIN:DAYLIGHT
TZOFFSETFROM:-0500
TZOFFSETTO:-0400
TZNAME:EDT
DTSTART:20270314T070000
END:DAYLIGHT
BEGIN:STANDARD
TZOFFSETFROM:-0400
TZOFFSETTO:-0500
TZNAME:EST
DTSTART:20271107T060000
END:STANDARD
END:VTIMEZONE
BEGIN:VEVENT
DTSTART;TZID=America/New_York:20260411T170000
DTEND;TZID=America/New_York:20260411T180000
DTSTAMP:20260424T155823
CREATED:20260401T160929Z
LAST-MODIFIED:20260401T160929Z
UID:10024830-1775926800-1775930400@avonmumc.org
SUMMARY:2026 Connecticut District Conference
DESCRIPTION:2026 Connecticut District Conference\nDate: Saturday\, April 11\, 2026 \n\n09:30 am: Gathering & Refreshment\n10:00 am: Worship & Business\n\nLocation: Cheshire UMC (205 Academy Rd\, Cheshire\, CT) \nAll CT District church members are invited to this celebration\, featuring a message from the District Superintendent\, district-wide music\, Cooperative Parish reports\, and brief business. \nPlease register at the link here: https://ny-reg.brtapp.com/CTDistrictConferenceRegistration
URL:https://avonmumc.org/event/2026-connecticut-district-conference/
LOCATION:Memorial United Methodist Church\, 867 West Avon Road\, Avon\, CT\, 06001\, United States
CATEGORIES:Worship Service
ATTACH;FMTTYPE=image/png:https://avonmumc.org/wp-content/uploads/2025/03/nyac-umc.png
GEO:41.7661738;-72.8710925
X-APPLE-STRUCTURED-LOCATION;VALUE=URI;X-ADDRESS=Memorial United Methodist Church 867 West Avon Road Avon CT 06001 United States;X-APPLE-RADIUS=500;X-TITLE=867 West Avon Road:geo:-72.8710925,41.7661738
END:VEVENT
END:VCALENDAR