BEGIN:VCALENDAR
VERSION:2.0
PRODID:-//Memorial United Methodist Church - ECPv6.15.20//NONSGML v1.0//EN
CALSCALE:GREGORIAN
METHOD:PUBLISH
X-WR-CALNAME:Memorial United Methodist Church
X-ORIGINAL-URL:https://avonmumc.org
X-WR-CALDESC:Events for Memorial United Methodist Church
REFRESH-INTERVAL;VALUE=DURATION:PT1H
X-Robots-Tag:noindex
X-PUBLISHED-TTL:PT1H
BEGIN:VTIMEZONE
TZID:America/New_York
BEGIN:DAYLIGHT
TZOFFSETFROM:-0500
TZOFFSETTO:-0400
TZNAME:EDT
DTSTART:20250309T070000
END:DAYLIGHT
BEGIN:STANDARD
TZOFFSETFROM:-0400
TZOFFSETTO:-0500
TZNAME:EST
DTSTART:20251102T060000
END:STANDARD
BEGIN:DAYLIGHT
TZOFFSETFROM:-0500
TZOFFSETTO:-0400
TZNAME:EDT
DTSTART:20260308T070000
END:DAYLIGHT
BEGIN:STANDARD
TZOFFSETFROM:-0400
TZOFFSETTO:-0500
TZNAME:EST
DTSTART:20261101T060000
END:STANDARD
BEGIN:DAYLIGHT
TZOFFSETFROM:-0500
TZOFFSETTO:-0400
TZNAME:EDT
DTSTART:20270314T070000
END:DAYLIGHT
BEGIN:STANDARD
TZOFFSETFROM:-0400
TZOFFSETTO:-0500
TZNAME:EST
DTSTART:20271107T060000
END:STANDARD
BEGIN:DAYLIGHT
TZOFFSETFROM:-0500
TZOFFSETTO:-0400
TZNAME:EDT
DTSTART:20280312T070000
END:DAYLIGHT
BEGIN:STANDARD
TZOFFSETFROM:-0400
TZOFFSETTO:-0500
TZNAME:EST
DTSTART:20281105T060000
END:STANDARD
END:VTIMEZONE
BEGIN:VEVENT
DTSTART;TZID=America/New_York:20261231T120000
DTEND;TZID=America/New_York:20261231T140000
DTSTAMP:20260426T001327
CREATED:20250701T184534Z
LAST-MODIFIED:20260401T004532Z
UID:10023855-1798718400-1798725600@avonmumc.org
SUMMARY:Thursday Lunch Bunch
DESCRIPTION:Meet one another\, share concerns\, laugh together!\nEvent Date: Every Thursday (except the first week of the month)\nTime: 12:00 -2:00 pm\nLocation: Fellowship Hall \nPack up your own lunch and come join the casual gathering. Enjoy time together sharing stories\, memories\, lively discussion\, and laughter. Coffee\, tea\, etc. provided. \nFor more social gathering opportunities\, please visit the Koinonia (Fellowship) webpage.
URL:https://avonmumc.org/event/thursday-lunch-bunch/2026-12-31/
LOCATION:Memorial United Methodist Church\, 867 West Avon Road\, Avon\, CT\, 06001\, United States
CATEGORIES:Event
ATTACH;FMTTYPE=image/jpeg:https://avonmumc.org/wp-content/uploads/2024/12/lunch_bunch.jpg
GEO:41.7661738;-72.8710925
X-APPLE-STRUCTURED-LOCATION;VALUE=URI;X-ADDRESS=Memorial United Methodist Church 867 West Avon Road Avon CT 06001 United States;X-APPLE-RADIUS=500;X-TITLE=867 West Avon Road:geo:-72.8710925,41.7661738
END:VEVENT
BEGIN:VEVENT
DTSTART;TZID=America/New_York:20270102T093000
DTEND;TZID=America/New_York:20270102T103000
DTSTAMP:20260426T001327
CREATED:20250925T234736Z
LAST-MODIFIED:20260401T123741Z
UID:10024824-1798882200-1798885800@avonmumc.org
SUMMARY:Prayer Warriors: A Prayer Meeting
DESCRIPTION:Meeting Date: First Saturday of the month\nTime: 9:30-10:30 am\nLocation: Prayer Closet (Room 201) \n“Prayer Warriors” are committed individuals\, not necessarily trained professionals\, who intercede in prayer on behalf of others\, often those in spiritual or personal distress. The phrase “prayer warriors needed” is a call to action\, indicating that prayers are necessary for a specific situation\, person\, or goal\, and it encourages others to pray persistently and faithfully for that need. \nCome and share in this new exciting prayer group at MUMC! \nIf you have any questions\, please contact Linda Arnold via the contact form.
URL:https://avonmumc.org/event/prayer-warriors-a-prayer-meeting/2027-01-02/
LOCATION:Memorial United Methodist Church\, 867 West Avon Road\, Avon\, CT\, 06001\, United States
CATEGORIES:Event
ATTACH;FMTTYPE=image/jpeg:https://avonmumc.org/wp-content/uploads/2025/09/Prayer-Warriors-1.jpg
GEO:41.7661738;-72.8710925
X-APPLE-STRUCTURED-LOCATION;VALUE=URI;X-ADDRESS=Memorial United Methodist Church 867 West Avon Road Avon CT 06001 United States;X-APPLE-RADIUS=500;X-TITLE=867 West Avon Road:geo:-72.8710925,41.7661738
END:VEVENT
BEGIN:VEVENT
DTSTART;TZID=America/New_York:20270120T080000
DTEND;TZID=America/New_York:20270120T090000
DTSTAMP:20260426T001327
CREATED:20251219T232818Z
LAST-MODIFIED:20260120T185633Z
UID:10024247-1800432000-1800435600@avonmumc.org
SUMMARY:Men's Breakfast
DESCRIPTION:Join us for our Men’s Breakfast!\nEvent Date: 3rd Wednesday of the month\nTime: 8:00 am – 9:00 am\nLocation: Friendly’s in Avon\, CT \nAbout the group: \nThis is a great opportunity to get to know the other men of the church\, share experiences\, and grow your faith to become the man God wants you to be. The agenda and purpose is fellowship. Discussions cover just about everything under the sun\, mostly sports and deer hunting (thus the venison-egg stratas). \nContact Walter Sargent via the contact form for more info.
URL:https://avonmumc.org/event/mens-breakfast-2/2027-01-20/
LOCATION:Friendly’s (Avon\, CT)\, West Main Street\, Avon\, CT\, 06001\, United States
CATEGORIES:Event
ATTACH;FMTTYPE=image/jpeg:https://avonmumc.org/wp-content/uploads/2024/03/event-mens-breakfast2.jpg
GEO:41.8147002;-72.8615635
X-APPLE-STRUCTURED-LOCATION;VALUE=URI;X-ADDRESS=Friendly’s (Avon CT) West Main Street Avon CT 06001 United States;X-APPLE-RADIUS=500;X-TITLE=West Main Street:geo:-72.8615635,41.8147002
END:VEVENT
BEGIN:VEVENT
DTSTART;TZID=America/New_York:20270206T093000
DTEND;TZID=America/New_York:20270206T103000
DTSTAMP:20260426T001327
CREATED:20250925T234736Z
LAST-MODIFIED:20260401T123741Z
UID:10024825-1801906200-1801909800@avonmumc.org
SUMMARY:Prayer Warriors: A Prayer Meeting
DESCRIPTION:Meeting Date: First Saturday of the month\nTime: 9:30-10:30 am\nLocation: Prayer Closet (Room 201) \n“Prayer Warriors” are committed individuals\, not necessarily trained professionals\, who intercede in prayer on behalf of others\, often those in spiritual or personal distress. The phrase “prayer warriors needed” is a call to action\, indicating that prayers are necessary for a specific situation\, person\, or goal\, and it encourages others to pray persistently and faithfully for that need. \nCome and share in this new exciting prayer group at MUMC! \nIf you have any questions\, please contact Linda Arnold via the contact form.
URL:https://avonmumc.org/event/prayer-warriors-a-prayer-meeting/2027-02-06/
LOCATION:Memorial United Methodist Church\, 867 West Avon Road\, Avon\, CT\, 06001\, United States
CATEGORIES:Event
ATTACH;FMTTYPE=image/jpeg:https://avonmumc.org/wp-content/uploads/2025/09/Prayer-Warriors-1.jpg
GEO:41.7661738;-72.8710925
X-APPLE-STRUCTURED-LOCATION;VALUE=URI;X-ADDRESS=Memorial United Methodist Church 867 West Avon Road Avon CT 06001 United States;X-APPLE-RADIUS=500;X-TITLE=867 West Avon Road:geo:-72.8710925,41.7661738
END:VEVENT
BEGIN:VEVENT
DTSTART;TZID=America/New_York:20270306T093000
DTEND;TZID=America/New_York:20270306T103000
DTSTAMP:20260426T001327
CREATED:20250925T234736Z
LAST-MODIFIED:20260401T123741Z
UID:10024826-1804325400-1804329000@avonmumc.org
SUMMARY:Prayer Warriors: A Prayer Meeting
DESCRIPTION:Meeting Date: First Saturday of the month\nTime: 9:30-10:30 am\nLocation: Prayer Closet (Room 201) \n“Prayer Warriors” are committed individuals\, not necessarily trained professionals\, who intercede in prayer on behalf of others\, often those in spiritual or personal distress. The phrase “prayer warriors needed” is a call to action\, indicating that prayers are necessary for a specific situation\, person\, or goal\, and it encourages others to pray persistently and faithfully for that need. \nCome and share in this new exciting prayer group at MUMC! \nIf you have any questions\, please contact Linda Arnold via the contact form.
URL:https://avonmumc.org/event/prayer-warriors-a-prayer-meeting/2027-03-06/
LOCATION:Memorial United Methodist Church\, 867 West Avon Road\, Avon\, CT\, 06001\, United States
CATEGORIES:Event
ATTACH;FMTTYPE=image/jpeg:https://avonmumc.org/wp-content/uploads/2025/09/Prayer-Warriors-1.jpg
GEO:41.7661738;-72.8710925
X-APPLE-STRUCTURED-LOCATION;VALUE=URI;X-ADDRESS=Memorial United Methodist Church 867 West Avon Road Avon CT 06001 United States;X-APPLE-RADIUS=500;X-TITLE=867 West Avon Road:geo:-72.8710925,41.7661738
END:VEVENT
BEGIN:VEVENT
DTSTART;TZID=America/New_York:20270403T093000
DTEND;TZID=America/New_York:20270403T103000
DTSTAMP:20260426T001327
CREATED:20250925T234736Z
LAST-MODIFIED:20260401T123741Z
UID:10024827-1806744600-1806748200@avonmumc.org
SUMMARY:Prayer Warriors: A Prayer Meeting
DESCRIPTION:Meeting Date: First Saturday of the month\nTime: 9:30-10:30 am\nLocation: Prayer Closet (Room 201) \n“Prayer Warriors” are committed individuals\, not necessarily trained professionals\, who intercede in prayer on behalf of others\, often those in spiritual or personal distress. The phrase “prayer warriors needed” is a call to action\, indicating that prayers are necessary for a specific situation\, person\, or goal\, and it encourages others to pray persistently and faithfully for that need. \nCome and share in this new exciting prayer group at MUMC! \nIf you have any questions\, please contact Linda Arnold via the contact form.
URL:https://avonmumc.org/event/prayer-warriors-a-prayer-meeting/2027-04-03/
LOCATION:Memorial United Methodist Church\, 867 West Avon Road\, Avon\, CT\, 06001\, United States
CATEGORIES:Event
ATTACH;FMTTYPE=image/jpeg:https://avonmumc.org/wp-content/uploads/2025/09/Prayer-Warriors-1.jpg
GEO:41.7661738;-72.8710925
X-APPLE-STRUCTURED-LOCATION;VALUE=URI;X-ADDRESS=Memorial United Methodist Church 867 West Avon Road Avon CT 06001 United States;X-APPLE-RADIUS=500;X-TITLE=867 West Avon Road:geo:-72.8710925,41.7661738
END:VEVENT
BEGIN:VEVENT
DTSTART;TZID=America/New_York:20270501T093000
DTEND;TZID=America/New_York:20270501T103000
DTSTAMP:20260426T001327
CREATED:20250925T234736Z
LAST-MODIFIED:20260401T123741Z
UID:10024828-1809163800-1809167400@avonmumc.org
SUMMARY:Prayer Warriors: A Prayer Meeting
DESCRIPTION:Meeting Date: First Saturday of the month\nTime: 9:30-10:30 am\nLocation: Prayer Closet (Room 201) \n“Prayer Warriors” are committed individuals\, not necessarily trained professionals\, who intercede in prayer on behalf of others\, often those in spiritual or personal distress. The phrase “prayer warriors needed” is a call to action\, indicating that prayers are necessary for a specific situation\, person\, or goal\, and it encourages others to pray persistently and faithfully for that need. \nCome and share in this new exciting prayer group at MUMC! \nIf you have any questions\, please contact Linda Arnold via the contact form.
URL:https://avonmumc.org/event/prayer-warriors-a-prayer-meeting/2027-05-01/
LOCATION:Memorial United Methodist Church\, 867 West Avon Road\, Avon\, CT\, 06001\, United States
CATEGORIES:Event
ATTACH;FMTTYPE=image/jpeg:https://avonmumc.org/wp-content/uploads/2025/09/Prayer-Warriors-1.jpg
GEO:41.7661738;-72.8710925
X-APPLE-STRUCTURED-LOCATION;VALUE=URI;X-ADDRESS=Memorial United Methodist Church 867 West Avon Road Avon CT 06001 United States;X-APPLE-RADIUS=500;X-TITLE=867 West Avon Road:geo:-72.8710925,41.7661738
END:VEVENT
BEGIN:VEVENT
DTSTART;TZID=America/New_York:20270605T093000
DTEND;TZID=America/New_York:20270605T103000
DTSTAMP:20260426T001327
CREATED:20250925T234736Z
LAST-MODIFIED:20260401T123741Z
UID:10024829-1812187800-1812191400@avonmumc.org
SUMMARY:Prayer Warriors: A Prayer Meeting
DESCRIPTION:Meeting Date: First Saturday of the month\nTime: 9:30-10:30 am\nLocation: Prayer Closet (Room 201) \n“Prayer Warriors” are committed individuals\, not necessarily trained professionals\, who intercede in prayer on behalf of others\, often those in spiritual or personal distress. The phrase “prayer warriors needed” is a call to action\, indicating that prayers are necessary for a specific situation\, person\, or goal\, and it encourages others to pray persistently and faithfully for that need. \nCome and share in this new exciting prayer group at MUMC! \nIf you have any questions\, please contact Linda Arnold via the contact form.
URL:https://avonmumc.org/event/prayer-warriors-a-prayer-meeting/2027-06-05/
LOCATION:Memorial United Methodist Church\, 867 West Avon Road\, Avon\, CT\, 06001\, United States
CATEGORIES:Event
ATTACH;FMTTYPE=image/jpeg:https://avonmumc.org/wp-content/uploads/2025/09/Prayer-Warriors-1.jpg
GEO:41.7661738;-72.8710925
X-APPLE-STRUCTURED-LOCATION;VALUE=URI;X-ADDRESS=Memorial United Methodist Church 867 West Avon Road Avon CT 06001 United States;X-APPLE-RADIUS=500;X-TITLE=867 West Avon Road:geo:-72.8710925,41.7661738
END:VEVENT
BEGIN:VEVENT
DTSTART;TZID=America/New_York:20271224T170000
DTEND;TZID=America/New_York:20271224T180000
DTSTAMP:20260426T001327
CREATED:20251020T035824Z
LAST-MODIFIED:20260310T211032Z
UID:10024026-1829667600-1829671200@avonmumc.org
SUMMARY:Christmas Eve Services
DESCRIPTION:Christmas Eve Services\nPlease join us on Christmas Eve as we celebrate the birth of Christ and the hope He brings to the world. \nDate: Wednesday\, December 24\, 2025 \n\n5 pm: Christmas Eve Lessons & Carols – A joyful Christmas service of lessons and carols\, communion\, candlelight\, and Christmas Pageant *We will live-stream the service.\n11 pm: Christmas Eve Candlelight Service – A serene Christmas Eve service of lessons\, carols\, communion\, and candlelight.
URL:https://avonmumc.org/event/christmas-eve-services/2027-12-24/1/
LOCATION:Memorial United Methodist Church\, 867 West Avon Road\, Avon\, CT\, 06001\, United States
CATEGORIES:Worship Service
ATTACH;FMTTYPE=image/jpeg:https://avonmumc.org/wp-content/uploads/2024/09/Christmas-Eve-Services.jpg
GEO:41.7661738;-72.8710925
X-APPLE-STRUCTURED-LOCATION;VALUE=URI;X-ADDRESS=Memorial United Methodist Church 867 West Avon Road Avon CT 06001 United States;X-APPLE-RADIUS=500;X-TITLE=867 West Avon Road:geo:-72.8710925,41.7661738
END:VEVENT
BEGIN:VEVENT
DTSTART;TZID=America/New_York:20271224T230000
DTEND;TZID=America/New_York:20271224T235000
DTSTAMP:20260426T001327
CREATED:20251020T035824Z
LAST-MODIFIED:20260310T211032Z
UID:10024662-1829689200-1829692200@avonmumc.org
SUMMARY:Christmas Eve Services
DESCRIPTION:Christmas Eve Services\nPlease join us on Christmas Eve as we celebrate the birth of Christ and the hope He brings to the world. \nDate: Wednesday\, December 24\, 2025 \n\n5 pm: Christmas Eve Lessons & Carols – A joyful Christmas service of lessons and carols\, communion\, candlelight\, and Christmas Pageant *We will live-stream the service.\n11 pm: Christmas Eve Candlelight Service – A serene Christmas Eve service of lessons\, carols\, communion\, and candlelight.
URL:https://avonmumc.org/event/christmas-eve-services/2027-12-24/3/
LOCATION:Memorial United Methodist Church\, 867 West Avon Road\, Avon\, CT\, 06001\, United States
CATEGORIES:Worship Service
ATTACH;FMTTYPE=image/jpeg:https://avonmumc.org/wp-content/uploads/2024/09/Christmas-Eve-Services.jpg
GEO:41.7661738;-72.8710925
X-APPLE-STRUCTURED-LOCATION;VALUE=URI;X-ADDRESS=Memorial United Methodist Church 867 West Avon Road Avon CT 06001 United States;X-APPLE-RADIUS=500;X-TITLE=867 West Avon Road:geo:-72.8710925,41.7661738
END:VEVENT
END:VCALENDAR