BEGIN:VCALENDAR
VERSION:2.0
PRODID:-//Memorial United Methodist Church - ECPv6.15.20//NONSGML v1.0//EN
CALSCALE:GREGORIAN
METHOD:PUBLISH
X-WR-CALNAME:Memorial United Methodist Church
X-ORIGINAL-URL:https://avonmumc.org
X-WR-CALDESC:Events for Memorial United Methodist Church
REFRESH-INTERVAL;VALUE=DURATION:PT1H
X-Robots-Tag:noindex
X-PUBLISHED-TTL:PT1H
BEGIN:VTIMEZONE
TZID:America/New_York
BEGIN:DAYLIGHT
TZOFFSETFROM:-0500
TZOFFSETTO:-0400
TZNAME:EDT
DTSTART:20250309T070000
END:DAYLIGHT
BEGIN:STANDARD
TZOFFSETFROM:-0400
TZOFFSETTO:-0500
TZNAME:EST
DTSTART:20251102T060000
END:STANDARD
BEGIN:DAYLIGHT
TZOFFSETFROM:-0500
TZOFFSETTO:-0400
TZNAME:EDT
DTSTART:20260308T070000
END:DAYLIGHT
BEGIN:STANDARD
TZOFFSETFROM:-0400
TZOFFSETTO:-0500
TZNAME:EST
DTSTART:20261101T060000
END:STANDARD
BEGIN:DAYLIGHT
TZOFFSETFROM:-0500
TZOFFSETTO:-0400
TZNAME:EDT
DTSTART:20270314T070000
END:DAYLIGHT
BEGIN:STANDARD
TZOFFSETFROM:-0400
TZOFFSETTO:-0500
TZNAME:EST
DTSTART:20271107T060000
END:STANDARD
END:VTIMEZONE
BEGIN:VEVENT
DTSTART;TZID=America/New_York:20260416T191500
DTEND;TZID=America/New_York:20260416T201500
DTSTAMP:20260423T104058
CREATED:20250317T210703Z
LAST-MODIFIED:20250930T122241Z
UID:10023753-1776366900-1776370500@avonmumc.org
SUMMARY:SPR Committee Meeting
DESCRIPTION:Meeting Date: Quarterly\, 3rd Thursday of Jan.\, Apr.\, July\, and Oct.\nTime: 7:15 pm\nLocation: Palor and Zoom \nAbout the committee: \nThe following are some key duties of the SPR committee. Most are taken from the UMC Book of Discipline\, but not all are listed\, and some are specific to MUMC. \n\nTo encourage\, strengthen\, nurture\, support\, and respect the pastor and staff and their family(s).\nTo develop and approve written job descriptions within employee agreements. To maintain the Personnel\, Policies & Procedures Employee Handbook. Ensure these documents are signed upon hire\, annually and when any changes. Keep these and other SPR documents in locked church file cabinet.\nTo confer with\, consult\, and counsel the pastor and staff on matters pertaining to priorities in the use of their gifts\, skills\, time; and priorities for the demands and effectiveness of the mission and ministry of the congregation.\nTo provide evaluation at least annually for the use of the pastor and staff in an ongoing effective ministry and for identifying continuing educational needs and plans. Keep written record of evaluations.\nThe committee shall cooperate with the pastor\, the district superintendent\, and the bishop in securing clergy leadership. Its relationship to the district superintendent and the bishop shall be advisory only. NYAC determines our pastor appointment\, starting salary\, travel/moving requirement\, vacation/spiritual renewal time-off\, health and life insurance\, pension\, housing requirement. We can decide salary increase. SPRC confers with the pastor and/or other appointed members of the staff if it should become evident that the best interests of the charge and pastor will be served by a change of pastor. -The committee and the pastor shall have the authority to hire\, contract\, evaluate\, promote\, retire\, and dismiss non appointed personnel\, but shall keep informed the Church Council regarding such matters. SPR will seek approval and direction from Church Council for any employment changes that affects church function\, ministry\, unity\, etc. SPR will seek approval from Finance committee for any salary changes to the budget.\nMembers of the committee shall keep themselves informed of personnel matters in relationship to the Church’s policy\, professional standards\, liability issues\, and civil law. They are responsible for communicating and interpreting such matters to staff.\n\nChairperson serves as a member of the Church Charge Conference and Church Council.
URL:https://avonmumc.org/event/spr-committee-meeting/2026-04-16/
LOCATION:Memorial United Methodist Church\, 867 West Avon Road\, Avon\, CT\, 06001\, United States
CATEGORIES:Meeting
ATTACH;FMTTYPE=image/jpeg:https://avonmumc.org/wp-content/uploads/2024/06/meeting.jpg
GEO:41.7661738;-72.8710925
X-APPLE-STRUCTURED-LOCATION;VALUE=URI;X-ADDRESS=Memorial United Methodist Church 867 West Avon Road Avon CT 06001 United States;X-APPLE-RADIUS=500;X-TITLE=867 West Avon Road:geo:-72.8710925,41.7661738
END:VEVENT
BEGIN:VEVENT
DTSTART;TZID=America/New_York:20260416T170000
DTEND;TZID=America/New_York:20260416T181500
DTSTAMP:20260423T104058
CREATED:20251219T172847Z
LAST-MODIFIED:20260201T210539Z
UID:10024052-1776358800-1776363300@avonmumc.org
SUMMARY:Memorial Choir Rehearsal
DESCRIPTION:Let us make a joyful noise to the rock of our salvation! \nMemorial Choir Rehearsal Time and Performance Schedule: \n\nMemorial Choir: Ages 14 and up\nRehearsal Time: Thursdays\, 5 pm to 6:15 pm\, Room 201 & Sundays\, 9:40 am\, Sanctuary\nPerformance Schedule: Sunday Worship Services & Special Worship Services\n\nContact Tamar Witkin\, Music Director\, if you are interested in joining a choir regardless of experience. \nFor more info\, please visit the Music Ministry webpage.
URL:https://avonmumc.org/event/memorial-choir-rehearsal-3-2/2026-04-16/
LOCATION:Memorial United Methodist Church\, 867 West Avon Road\, Avon\, CT\, 06001\, United States
CATEGORIES:Event
ATTACH;FMTTYPE=image/jpeg:https://avonmumc.org/wp-content/uploads/2024/03/event_choir.jpg
GEO:41.7661738;-72.8710925
X-APPLE-STRUCTURED-LOCATION;VALUE=URI;X-ADDRESS=Memorial United Methodist Church 867 West Avon Road Avon CT 06001 United States;X-APPLE-RADIUS=500;X-TITLE=867 West Avon Road:geo:-72.8710925,41.7661738
END:VEVENT
BEGIN:VEVENT
DTSTART;TZID=America/New_York:20260416T120000
DTEND;TZID=America/New_York:20260416T140000
DTSTAMP:20260423T104058
CREATED:20250701T184534Z
LAST-MODIFIED:20260401T004532Z
UID:10023722-1776340800-1776348000@avonmumc.org
SUMMARY:Thursday Lunch Bunch
DESCRIPTION:Meet one another\, share concerns\, laugh together!\nEvent Date: Every Thursday (except the first week of the month)\nTime: 12:00 -2:00 pm\nLocation: Fellowship Hall \nPack up your own lunch and come join the casual gathering. Enjoy time together sharing stories\, memories\, lively discussion\, and laughter. Coffee\, tea\, etc. provided. \nFor more social gathering opportunities\, please visit the Koinonia (Fellowship) webpage.
URL:https://avonmumc.org/event/thursday-lunch-bunch/2026-04-16/
LOCATION:Memorial United Methodist Church\, 867 West Avon Road\, Avon\, CT\, 06001\, United States
CATEGORIES:Event
ATTACH;FMTTYPE=image/jpeg:https://avonmumc.org/wp-content/uploads/2024/12/lunch_bunch.jpg
GEO:41.7661738;-72.8710925
X-APPLE-STRUCTURED-LOCATION;VALUE=URI;X-ADDRESS=Memorial United Methodist Church 867 West Avon Road Avon CT 06001 United States;X-APPLE-RADIUS=500;X-TITLE=867 West Avon Road:geo:-72.8710925,41.7661738
END:VEVENT
BEGIN:VEVENT
DTSTART;TZID=America/New_York:20260415T200000
DTEND;TZID=America/New_York:20260415T210000
DTSTAMP:20260423T104058
CREATED:20241231T183439Z
LAST-MODIFIED:20250930T120733Z
UID:10023638-1776283200-1776286800@avonmumc.org
SUMMARY:Wednesday AA Meeting
DESCRIPTION:Alcoholics Anonymous Meeting\nMeeting Date: Every Wednesday and Saturday (Open Meeting)\nTime: 8:00 pm\nLocation: Fellowship Hall \nAlcoholics Anonymous (AA) was founded in America in 1935 by Bill Wilson (Bill W.) and Robert Smith (Dr. Bob). Two centuries earlier\, John Wesley\, the founder of Methodism\, established Methodist penitent bands in England\, which organized on Saturday nights\, the evening on which members of these small groups were most tempted to frequent alehouses.  The hymns and teaching provided during these meetings addressed the issues the members faced\, thus the connection between these bands and the current practices of AA. \nIn addition\, other Avon locations for AA meetings are available\, one at the Avon Center Congregational Church each morning at 7:00 AM\, and also on Tuesday evenings at 8:00 PM at the West Avon Congregational Church on Country Club Road. \nIf you know of anyone who would benefit from participating in any of these meetings\, please have them contact any of the three churches mentioned.  AA is truly a lifesaving program that has stood the test of time.
URL:https://avonmumc.org/event/wednesday-aa-meeting/2026-04-15/
LOCATION:Memorial United Methodist Church\, 867 West Avon Road\, Avon\, CT\, 06001\, United States
CATEGORIES:Hosted Organization Meeting
ATTACH;FMTTYPE=image/jpeg:https://avonmumc.org/wp-content/uploads/2024/03/Alcohol-Awarenessy.jpg
GEO:41.7661738;-72.8710925
X-APPLE-STRUCTURED-LOCATION;VALUE=URI;X-ADDRESS=Memorial United Methodist Church 867 West Avon Road Avon CT 06001 United States;X-APPLE-RADIUS=500;X-TITLE=867 West Avon Road:geo:-72.8710925,41.7661738
END:VEVENT
BEGIN:VEVENT
DTSTART;TZID=America/New_York:20260415T100000
DTEND;TZID=America/New_York:20260415T113000
DTSTAMP:20260423T104058
CREATED:20241228T200555Z
LAST-MODIFIED:20260125T183941Z
UID:10023746-1776247200-1776252600@avonmumc.org
SUMMARY:Bereavement Support Group
DESCRIPTION:Here for you in your time of loss\nDate: 3rd Wednesday of each month (except for July and August)\nTime: 10:00 am to 11:30 am\nWho: All bereaved members of the community\nLocation: Parlor and Zoom \nThe MUMC Bereavement Support Group is comprised of members whose spouse or partner has died. Everyone grieves differently and in their own way\, and the Support Group provides a safe place for members to share each other’s experiences\, concerns\, and emotions that may be causing pain. It is a time set aside for the grieving person to process their own personal grief\, away from the day-to-day frustrations and interruptions we all experience. The fundamental benefit of the Bereavement Support Group is knowing you are not alone\, and Christ is always with you. \nAllen Nixon facilitates each meeting and Pastor Lee attends to give us Christian guidance. There is no specific agenda\, and at the meeting one may express what is troubling them\, their emotions\, cry\, or remain silent\, and do this without fear of judgement\, as the members know what they are going through. \nAlso\, around the first of each month\, an article or two concerning the grieving process is sent to Group members; an example of this is “7 Strategies for Managing Grief During the Holidays.” \nIf you’d like to join or need more info\, contact the pastor or Allen Nixon\, Facilitator\, via the contact form. \nLearn more about MUMC’s  Small Groups.
URL:https://avonmumc.org/event/bereavement-support-group/2026-04-15/
LOCATION:Memorial United Methodist Church\, 867 West Avon Road\, Avon\, CT\, 06001\, United States
CATEGORIES:Event
ATTACH;FMTTYPE=image/jpeg:https://avonmumc.org/wp-content/uploads/2024/03/event_bereavement_support.jpg
GEO:41.7661738;-72.8710925
X-APPLE-STRUCTURED-LOCATION;VALUE=URI;X-ADDRESS=Memorial United Methodist Church 867 West Avon Road Avon CT 06001 United States;X-APPLE-RADIUS=500;X-TITLE=867 West Avon Road:geo:-72.8710925,41.7661738
END:VEVENT
BEGIN:VEVENT
DTSTART;TZID=America/New_York:20260415T080000
DTEND;TZID=America/New_York:20260415T090000
DTSTAMP:20260423T104058
CREATED:20251219T232818Z
LAST-MODIFIED:20260120T185633Z
UID:10024238-1776240000-1776243600@avonmumc.org
SUMMARY:Men's Breakfast
DESCRIPTION:Join us for our Men’s Breakfast!\nEvent Date: 3rd Wednesday of the month\nTime: 8:00 am – 9:00 am\nLocation: Friendly’s in Avon\, CT \nAbout the group: \nThis is a great opportunity to get to know the other men of the church\, share experiences\, and grow your faith to become the man God wants you to be. The agenda and purpose is fellowship. Discussions cover just about everything under the sun\, mostly sports and deer hunting (thus the venison-egg stratas). \nContact Walter Sargent via the contact form for more info.
URL:https://avonmumc.org/event/mens-breakfast-2/2026-04-15/
LOCATION:Friendly’s (Avon\, CT)\, West Main Street\, Avon\, CT\, 06001\, United States
CATEGORIES:Event
ATTACH;FMTTYPE=image/jpeg:https://avonmumc.org/wp-content/uploads/2024/03/event-mens-breakfast2.jpg
GEO:41.8147002;-72.8615635
X-APPLE-STRUCTURED-LOCATION;VALUE=URI;X-ADDRESS=Friendly’s (Avon CT) West Main Street Avon CT 06001 United States;X-APPLE-RADIUS=500;X-TITLE=West Main Street:geo:-72.8615635,41.8147002
END:VEVENT
BEGIN:VEVENT
DTSTART;TZID=America/New_York:20260414T190000
DTEND;TZID=America/New_York:20260414T200000
DTSTAMP:20260423T104058
CREATED:20241231T201433Z
LAST-MODIFIED:20250930T121741Z
UID:10023734-1776193200-1776196800@avonmumc.org
SUMMARY:Finance Committee Meeting
DESCRIPTION:Meeting Date: 2nd Tuesday of the month\nTime: 7:00 pm\nLocation: Parlor and Zoom \nCompiles annually a complete budget for the local church and submits it to the Church Council for review and adoption; develops and implements plans that will raise sufficient income to meet the budget adopted; administers the funds received according to instructions from the Church Council. \nChairperson serves as a member of the Church Charge Conference and Church Council. \nFinancial Secretary oversees the counting and recording of all funds contributed to the local church and reports to the Finance Committee all contributions in aggregate; provides timely reports to all contributors of their giving. Serves as member of Church Council. \nCurrent Treasurer disburses all money contributed to causes represented in the local church budget and other funds as the Church Council may determine; reports each month to the Church Council all church funds received and expended. Serves as member of Church Council. Position of Current Treasurer is a paid part time position of our church. \nPlans and promotes a comprehensive program of stewardship through educating and engaging church members in the principles of Christian stewardship so that they contribute their time\, talents\, and treasures to MUMC\, making the church and its community better over time; interprets the biblical and theological basis for stewardship; promotes giving consistent with a Christian lifestyle; develops funding concepts within the local church consistent with sound financial practices. \nThese goals are accomplished through the annual funding campaign\, organizing major fundraisers and articles in the newsletter.
URL:https://avonmumc.org/event/finance-committee-meeting/2026-04-14/
LOCATION:Memorial United Methodist Church\, 867 West Avon Road\, Avon\, CT\, 06001\, United States
CATEGORIES:Meeting
ATTACH;FMTTYPE=image/jpeg:https://avonmumc.org/wp-content/uploads/2024/06/meeting.jpg
GEO:41.7661738;-72.8710925
X-APPLE-STRUCTURED-LOCATION;VALUE=URI;X-ADDRESS=Memorial United Methodist Church 867 West Avon Road Avon CT 06001 United States;X-APPLE-RADIUS=500;X-TITLE=867 West Avon Road:geo:-72.8710925,41.7661738
END:VEVENT
BEGIN:VEVENT
DTSTART;TZID=America/New_York:20260414T101500
DTEND;TZID=America/New_York:20260414T114500
DTSTAMP:20260423T104058
CREATED:20260318T120808Z
LAST-MODIFIED:20260318T120809Z
UID:10024737-1776161700-1776167100@avonmumc.org
SUMMARY:Records and History Committee Meeting
DESCRIPTION:Meeting Date: 3rd Tuesday of the month\nTime: 10:00 am\nLocation: Parlor \nMission Statement: The mission of the Committee on Records and History is to preserve the historical records of the church that future generations can know our heritage. \nTo fulfill that mission\, the Committee on Records and History organizes\, maintains and preserves the historical records of the church. This includes important documents\, history of events\, pictorial records and interviews of members to collect their oral histories. We wish to promote interest in the history and heritage of the United Methodist Church and of our own congregation. We also serve as facilitators to those who want to do research in church records. \nThe Historian serves as a member of the Church Charge Conference and the Church Council.
URL:https://avonmumc.org/event/records-and-history-committee-meeting-2/2026-04-14/
LOCATION:Memorial United Methodist Church\, 867 West Avon Road\, Avon\, CT\, 06001\, United States
CATEGORIES:Meeting
ATTACH;FMTTYPE=image/jpeg:https://avonmumc.org/wp-content/uploads/2024/06/meeting.jpg
GEO:41.7661738;-72.8710925
X-APPLE-STRUCTURED-LOCATION;VALUE=URI;X-ADDRESS=Memorial United Methodist Church 867 West Avon Road Avon CT 06001 United States;X-APPLE-RADIUS=500;X-TITLE=867 West Avon Road:geo:-72.8710925,41.7661738
END:VEVENT
BEGIN:VEVENT
DTSTART;TZID=America/New_York:20260413T190000
DTEND;TZID=America/New_York:20260413T200000
DTSTAMP:20260423T104058
CREATED:20251230T161058Z
LAST-MODIFIED:20251230T163213Z
UID:10024590-1776106800-1776110400@avonmumc.org
SUMMARY:Prayer Shawl Gathering
DESCRIPTION:Wrap Others in Prayer!\nEvent Date: 2nd Monday of the month\nTime: 7:00 – 8:00 pm\nLocation: Parlor \nJoin us to knit or crochet while praying\, weaving your prayers for those in need into every shawl. Share guidance\, encouragement\, and fellowship as we create comforting\, handmade gifts that carry God’s love and care to others. \nThe Prayer Shawl Ministry of our church is a loving nurture and outreach that reflects Christ’s compassion and the Wesleyan call to serve through acts of mercy. Through prayer and handcrafted shawls\, we share God’s grace\, comfort\, and presence with those in need. Learn more about the MUMC Prayer Shawl Ministry.
URL:https://avonmumc.org/event/prayer-shawl-gathering/2026-04-13/
LOCATION:Memorial United Methodist Church\, 867 West Avon Road\, Avon\, CT\, 06001\, United States
CATEGORIES:Event
ATTACH;FMTTYPE=image/webp:https://avonmumc.org/wp-content/uploads/2025/11/Prayer_Shawl.webp
GEO:41.7661738;-72.8710925
X-APPLE-STRUCTURED-LOCATION;VALUE=URI;X-ADDRESS=Memorial United Methodist Church 867 West Avon Road Avon CT 06001 United States;X-APPLE-RADIUS=500;X-TITLE=867 West Avon Road:geo:-72.8710925,41.7661738
END:VEVENT
BEGIN:VEVENT
DTSTART;TZID=America/New_York:20260412T113000
DTEND;TZID=America/New_York:20260412T123000
DTSTAMP:20260423T104058
CREATED:20250317T214823Z
LAST-MODIFIED:20260124T200821Z
UID:10022424-1775993400-1775997000@avonmumc.org
SUMMARY:Fellowship Hour
DESCRIPTION:Meet one another\, share concerns\, laugh together!\nEvent Date: Every Sunday after the Service\nLocation: Fellowship Hall \nFellowship Hour on Sunday mornings is one of our most popular opportunities for connection and community. Held in our inviting Fellowship Hall (Downstairs)\, “Fellowship Hour” often features delicious food and a chance to check in with friends\, welcome new people\, and learn about important opportunities to get involved both within and beyond the walls of our congregation. \nFellowship Hour is overseen by the Membership Committee which makes up the monthly schedule and provides printed instructions. It is enjoyed by all who attend and the serving committee members and summer volunteers. \nFor more social gathering opportunities\, please visit the Koinonia (Fellowship) webpage.
URL:https://avonmumc.org/event/fellowship-hour/2026-04-12/
LOCATION:Memorial United Methodist Church\, 867 West Avon Road\, Avon\, CT\, 06001\, United States
CATEGORIES:Event
ATTACH;FMTTYPE=image/jpeg:https://avonmumc.org/wp-content/uploads/2024/06/event_coffee_hour.jpg
GEO:41.7661738;-72.8710925
X-APPLE-STRUCTURED-LOCATION;VALUE=URI;X-ADDRESS=Memorial United Methodist Church 867 West Avon Road Avon CT 06001 United States;X-APPLE-RADIUS=500;X-TITLE=867 West Avon Road:geo:-72.8710925,41.7661738
END:VEVENT
BEGIN:VEVENT
DTSTART;TZID=America/New_York:20260412T103000
DTEND;TZID=America/New_York:20260412T113000
DTSTAMP:20260423T104058
CREATED:20250317T213841Z
LAST-MODIFIED:20260201T213940Z
UID:10022365-1775989800-1775993400@avonmumc.org
SUMMARY:Family Worship Service
DESCRIPTION:Come Just As You Are!\nWe come together for our Worship Services to experience the love of Jesus and to respond to God in worship. The love of Jesus compels us to live lives that testify to the hope we have in him. \nSUNDAY WORSHIP SERVICES \nRegular Schedule (Sept. – June)\n8:30 am (In-person only) & 10:30 am (In-person and Online) *Childcare is provided in the 10:30 am service. \nBummer Schedule(July – Aug.)\n9:30 am (In-person and Online) *Childcare is provided. \nFor more info\, please visit the Worship with Us webpage.
URL:https://avonmumc.org/event/family-worship-service/2026-04-12/
LOCATION:Memorial United Methodist Church\, 867 West Avon Road\, Avon\, CT\, 06001\, United States
CATEGORIES:Worship Service
ATTACH;FMTTYPE=image/jpeg:https://avonmumc.org/wp-content/uploads/2024/06/event_feat_worship-0.jpg
GEO:41.7661738;-72.8710925
X-APPLE-STRUCTURED-LOCATION;VALUE=URI;X-ADDRESS=Memorial United Methodist Church 867 West Avon Road Avon CT 06001 United States;X-APPLE-RADIUS=500;X-TITLE=867 West Avon Road:geo:-72.8710925,41.7661738
END:VEVENT
BEGIN:VEVENT
DTSTART;TZID=America/New_York:20260412T093000
DTEND;TZID=America/New_York:20260412T102000
DTSTAMP:20260423T104058
CREATED:20251125T025914Z
LAST-MODIFIED:20260317T123206Z
UID:10022480-1775986200-1775989200@avonmumc.org
SUMMARY:Sunday School for All Ages
DESCRIPTION:Sunday School for all ages is held at 9:30 am Sunday mornings (September through June)\nClass Rooms:\nPreK-Grade 4: Room 203 – upstairs on left\nGrades 5-8: Room 105 – across from kitchen\nGrades 9-12: Room 106 – off Fellowship Hall\nAdults: Room 204 (Parlor) – upstairs on right \nFor more info\, please visit the Children’s Ministry and Small Groups webpages.
URL:https://avonmumc.org/event/sunday-school-for-all-ages-2-2/2026-04-12/
LOCATION:Memorial United Methodist Church\, 867 West Avon Road\, Avon\, CT\, 06001\, United States
CATEGORIES:Event
ATTACH;FMTTYPE=image/jpeg:https://avonmumc.org/wp-content/uploads/2024/03/event_sunday_school.jpg
GEO:41.7661738;-72.8710925
X-APPLE-STRUCTURED-LOCATION;VALUE=URI;X-ADDRESS=Memorial United Methodist Church 867 West Avon Road Avon CT 06001 United States;X-APPLE-RADIUS=500;X-TITLE=867 West Avon Road:geo:-72.8710925,41.7661738
END:VEVENT
BEGIN:VEVENT
DTSTART;TZID=America/New_York:20260412T083000
DTEND;TZID=America/New_York:20260412T093000
DTSTAMP:20260423T104058
CREATED:20250317T213327Z
LAST-MODIFIED:20260201T213849Z
UID:10022294-1775982600-1775986200@avonmumc.org
SUMMARY:Sunday Worship with Communion
DESCRIPTION:Come Just As You Are!\nWe come together for our Worship Services to experience the love of Jesus and to respond to God in worship. The love of Jesus compels us to live lives that testify to the hope we have in him. \nSUNDAY WORSHIP SERVICES \nRegular Schedule (Sept. – June)\n8:30 am (In-person only) & 10:30 am (In-person and Online) *Childcare is provided in the 10:30 am service. \nSummer Schedule (July – Aug.)\n9:30 am (In-person and Online) *Childcare is provided. \nFor more info\, please visit the Worship with Us webpage.
URL:https://avonmumc.org/event/sunday-worship-with-communion/2026-04-12/
LOCATION:Memorial United Methodist Church\, 867 West Avon Road\, Avon\, CT\, 06001\, United States
CATEGORIES:Worship Service
ATTACH;FMTTYPE=image/jpeg:https://avonmumc.org/wp-content/uploads/2024/03/event_sunday_communion_15.jpg
GEO:41.7661738;-72.8710925
X-APPLE-STRUCTURED-LOCATION;VALUE=URI;X-ADDRESS=Memorial United Methodist Church 867 West Avon Road Avon CT 06001 United States;X-APPLE-RADIUS=500;X-TITLE=867 West Avon Road:geo:-72.8710925,41.7661738
END:VEVENT
BEGIN:VEVENT
DTSTART;TZID=America/New_York:20260411T200000
DTEND;TZID=America/New_York:20260411T210000
DTSTAMP:20260423T104058
CREATED:20241231T183827Z
LAST-MODIFIED:20251028T215928Z
UID:10023697-1775937600-1775941200@avonmumc.org
SUMMARY:Saturday AA Meeting
DESCRIPTION:Alcoholics Anonymous Meeting\nMeeting Date: Every Wednesday and Saturday (Open Meeting)\nTime: 8:00 pm\nLocation: Fellowship Hall \nAlcoholics Anonymous (AA) was founded in America in 1935 by Bill Wilson (Bill W.) and Robert Smith (Dr. Bob). Two centuries earlier\, John Wesley\, the founder of Methodism\, established Methodist penitent bands in England\, which organized on Saturday nights\, the evening on which members of these small groups were most tempted to frequent alehouses.  The hymns and teaching provided during these meetings addressed the issues the members faced\, thus the connection between these bands and the current practices of AA. \nIn addition\, other Avon locations for AA meetings are available\, one at the Avon Center Congregational Church each morning at 7:00 AM\, and also on Tuesday evenings at 8:00 PM at the West Avon Congregational Church on Country Club Road. \nIf you know of anyone who would benefit from participating in any of these meetings\, please have them contact any of the three churches mentioned.  AA is truly a lifesaving program that has stood the test of time.
URL:https://avonmumc.org/event/saturday-aa-meeting/2026-04-11/
LOCATION:Memorial United Methodist Church\, 867 West Avon Road\, Avon\, CT\, 06001\, United States
CATEGORIES:Hosted Organization Meeting
ATTACH;FMTTYPE=image/jpeg:https://avonmumc.org/wp-content/uploads/2024/03/Alcohol-Awarenessy.jpg
GEO:41.7661738;-72.8710925
X-APPLE-STRUCTURED-LOCATION;VALUE=URI;X-ADDRESS=Memorial United Methodist Church 867 West Avon Road Avon CT 06001 United States;X-APPLE-RADIUS=500;X-TITLE=867 West Avon Road:geo:-72.8710925,41.7661738
END:VEVENT
BEGIN:VEVENT
DTSTART;TZID=America/New_York:20260411T170000
DTEND;TZID=America/New_York:20260411T180000
DTSTAMP:20260423T104058
CREATED:20260401T160929Z
LAST-MODIFIED:20260401T160929Z
UID:10024830-1775926800-1775930400@avonmumc.org
SUMMARY:2026 Connecticut District Conference
DESCRIPTION:2026 Connecticut District Conference\nDate: Saturday\, April 11\, 2026 \n\n09:30 am: Gathering & Refreshment\n10:00 am: Worship & Business\n\nLocation: Cheshire UMC (205 Academy Rd\, Cheshire\, CT) \nAll CT District church members are invited to this celebration\, featuring a message from the District Superintendent\, district-wide music\, Cooperative Parish reports\, and brief business. \nPlease register at the link here: https://ny-reg.brtapp.com/CTDistrictConferenceRegistration
URL:https://avonmumc.org/event/2026-connecticut-district-conference/
LOCATION:Memorial United Methodist Church\, 867 West Avon Road\, Avon\, CT\, 06001\, United States
CATEGORIES:Worship Service
ATTACH;FMTTYPE=image/png:https://avonmumc.org/wp-content/uploads/2025/03/nyac-umc.png
GEO:41.7661738;-72.8710925
X-APPLE-STRUCTURED-LOCATION;VALUE=URI;X-ADDRESS=Memorial United Methodist Church 867 West Avon Road Avon CT 06001 United States;X-APPLE-RADIUS=500;X-TITLE=867 West Avon Road:geo:-72.8710925,41.7661738
END:VEVENT
END:VCALENDAR