BEGIN:VCALENDAR
VERSION:2.0
PRODID:-//Memorial United Methodist Church - ECPv6.15.20//NONSGML v1.0//EN
CALSCALE:GREGORIAN
METHOD:PUBLISH
X-WR-CALNAME:Memorial United Methodist Church
X-ORIGINAL-URL:https://avonmumc.org
X-WR-CALDESC:Events for Memorial United Methodist Church
REFRESH-INTERVAL;VALUE=DURATION:PT1H
X-Robots-Tag:noindex
X-PUBLISHED-TTL:PT1H
BEGIN:VTIMEZONE
TZID:America/New_York
BEGIN:DAYLIGHT
TZOFFSETFROM:-0500
TZOFFSETTO:-0400
TZNAME:EDT
DTSTART:20250309T070000
END:DAYLIGHT
BEGIN:STANDARD
TZOFFSETFROM:-0400
TZOFFSETTO:-0500
TZNAME:EST
DTSTART:20251102T060000
END:STANDARD
BEGIN:DAYLIGHT
TZOFFSETFROM:-0500
TZOFFSETTO:-0400
TZNAME:EDT
DTSTART:20260308T070000
END:DAYLIGHT
BEGIN:STANDARD
TZOFFSETFROM:-0400
TZOFFSETTO:-0500
TZNAME:EST
DTSTART:20261101T060000
END:STANDARD
BEGIN:DAYLIGHT
TZOFFSETFROM:-0500
TZOFFSETTO:-0400
TZNAME:EDT
DTSTART:20270314T070000
END:DAYLIGHT
BEGIN:STANDARD
TZOFFSETFROM:-0400
TZOFFSETTO:-0500
TZNAME:EST
DTSTART:20271107T060000
END:STANDARD
END:VTIMEZONE
BEGIN:VEVENT
DTSTART;TZID=America/New_York:20260419T083000
DTEND;TZID=America/New_York:20260419T093000
DTSTAMP:20260425T121040
CREATED:20250317T213327Z
LAST-MODIFIED:20260201T213849Z
UID:10022295-1776587400-1776591000@avonmumc.org
SUMMARY:Sunday Worship with Communion
DESCRIPTION:Come Just As You Are!\nWe come together for our Worship Services to experience the love of Jesus and to respond to God in worship. The love of Jesus compels us to live lives that testify to the hope we have in him. \nSUNDAY WORSHIP SERVICES \nRegular Schedule (Sept. – June)\n8:30 am (In-person only) & 10:30 am (In-person and Online) *Childcare is provided in the 10:30 am service. \nSummer Schedule (July – Aug.)\n9:30 am (In-person and Online) *Childcare is provided. \nFor more info\, please visit the Worship with Us webpage.
URL:https://avonmumc.org/event/sunday-worship-with-communion/2026-04-19/
LOCATION:Memorial United Methodist Church\, 867 West Avon Road\, Avon\, CT\, 06001\, United States
CATEGORIES:Worship Service
ATTACH;FMTTYPE=image/jpeg:https://avonmumc.org/wp-content/uploads/2024/03/event_sunday_communion_15.jpg
GEO:41.7661738;-72.8710925
X-APPLE-STRUCTURED-LOCATION;VALUE=URI;X-ADDRESS=Memorial United Methodist Church 867 West Avon Road Avon CT 06001 United States;X-APPLE-RADIUS=500;X-TITLE=867 West Avon Road:geo:-72.8710925,41.7661738
END:VEVENT
BEGIN:VEVENT
DTSTART;TZID=America/New_York:20260418T200000
DTEND;TZID=America/New_York:20260418T210000
DTSTAMP:20260425T121040
CREATED:20241231T183827Z
LAST-MODIFIED:20251028T215928Z
UID:10023698-1776542400-1776546000@avonmumc.org
SUMMARY:Saturday AA Meeting
DESCRIPTION:Alcoholics Anonymous Meeting\nMeeting Date: Every Wednesday and Saturday (Open Meeting)\nTime: 8:00 pm\nLocation: Fellowship Hall \nAlcoholics Anonymous (AA) was founded in America in 1935 by Bill Wilson (Bill W.) and Robert Smith (Dr. Bob). Two centuries earlier\, John Wesley\, the founder of Methodism\, established Methodist penitent bands in England\, which organized on Saturday nights\, the evening on which members of these small groups were most tempted to frequent alehouses.  The hymns and teaching provided during these meetings addressed the issues the members faced\, thus the connection between these bands and the current practices of AA. \nIn addition\, other Avon locations for AA meetings are available\, one at the Avon Center Congregational Church each morning at 7:00 AM\, and also on Tuesday evenings at 8:00 PM at the West Avon Congregational Church on Country Club Road. \nIf you know of anyone who would benefit from participating in any of these meetings\, please have them contact any of the three churches mentioned.  AA is truly a lifesaving program that has stood the test of time.
URL:https://avonmumc.org/event/saturday-aa-meeting/2026-04-18/
LOCATION:Memorial United Methodist Church\, 867 West Avon Road\, Avon\, CT\, 06001\, United States
CATEGORIES:Hosted Organization Meeting
ATTACH;FMTTYPE=image/jpeg:https://avonmumc.org/wp-content/uploads/2024/03/Alcohol-Awarenessy.jpg
GEO:41.7661738;-72.8710925
X-APPLE-STRUCTURED-LOCATION;VALUE=URI;X-ADDRESS=Memorial United Methodist Church 867 West Avon Road Avon CT 06001 United States;X-APPLE-RADIUS=500;X-TITLE=867 West Avon Road:geo:-72.8710925,41.7661738
END:VEVENT
END:VCALENDAR